BEGIN:VCALENDAR
VERSION:2.0
PRODID:icalendar-ruby
CALSCALE:GREGORIAN
METHOD:PUBLISH
BEGIN:VEVENT
DTSTAMP:20260421T212037Z
UID:10-460973@efcbnj.org
DTSTART:20260916T230000Z
DTEND:20260917T000000Z
CLASS:PUBLIC
CREATED:20260421T160248
DESCRIPTION:Prayer Meeting
LAST-MODIFIED:20260421T160248
LOCATION:Sanctuary
SUMMARY:Prayer Meeting
URL;VALUE=URI:https://www.efcbnj.org/events/prayer-meeting/2026-09-16
END:VEVENT
END:VCALENDAR
