BEGIN:VCALENDAR
VERSION:2.0
PRODID:icalendar-ruby
CALSCALE:GREGORIAN
METHOD:PUBLISH
BEGIN:VEVENT
DTSTAMP:20260422T022352Z
UID:10-461744@efcbnj.org
DTSTART:20261007T230000Z
DTEND:20261008T000000Z
CLASS:PUBLIC
CREATED:20260421T211946
DESCRIPTION:Prayer Meeting
LAST-MODIFIED:20260421T211946
LOCATION:Sanctuary
SUMMARY:Prayer Meeting
URL;VALUE=URI:https://www.efcbnj.org/events/prayer-meeting/2026-10-07
END:VEVENT
END:VCALENDAR
