BEGIN:VCALENDAR
VERSION:2.0
PRODID:icalendar-ruby
CALSCALE:GREGORIAN
METHOD:PUBLISH
BEGIN:VEVENT
DTSTAMP:20260424T111827Z
UID:10-466361@efcbnj.org
DTSTART:20261021T230000Z
DTEND:20261022T000000Z
CLASS:PUBLIC
CREATED:20260423T225933
DESCRIPTION:Prayer Meeting
LAST-MODIFIED:20260423T225933
LOCATION:Sanctuary
SUMMARY:Prayer Meeting
URL;VALUE=URI:https://www.efcbnj.org/events/prayer-meeting/2026-10-21
END:VEVENT
END:VCALENDAR
