BEGIN:VCALENDAR
VERSION:2.0
PRODID:icalendar-ruby
CALSCALE:GREGORIAN
METHOD:PUBLISH
BEGIN:VEVENT
DTSTAMP:20260424T124446Z
UID:10-466747@efcbnj.org
DTSTART:20261028T230000Z
DTEND:20261029T000000Z
CLASS:PUBLIC
CREATED:20260424T082743
DESCRIPTION:Prayer Meeting
LAST-MODIFIED:20260424T082743
LOCATION:Sanctuary
SUMMARY:Prayer Meeting
URL;VALUE=URI:https://www.efcbnj.org/events/prayer-meeting/2026-10-28
END:VEVENT
END:VCALENDAR
