BEGIN:VCALENDAR
VERSION:2.0
PRODID:icalendar-ruby
CALSCALE:GREGORIAN
METHOD:PUBLISH
BEGIN:VEVENT
DTSTAMP:20260424T141448Z
UID:10-466748@efcbnj.org
DTSTART:20261105T000000Z
DTEND:20261105T010000Z
CLASS:PUBLIC
CREATED:20260424T082743
DESCRIPTION:Prayer Meeting
LAST-MODIFIED:20260424T082743
LOCATION:Sanctuary
SUMMARY:Prayer Meeting
URL;VALUE=URI:https://www.efcbnj.org/events/prayer-meeting/2026-11-04
END:VEVENT
END:VCALENDAR
